BEGIN:VCALENDAR
VERSION:2.0
PRODID:-//CC ThinkTank - ECPv6.15.20//NONSGML v1.0//EN
CALSCALE:GREGORIAN
METHOD:PUBLISH
X-ORIGINAL-URL:https://cc-thinktank.com
X-WR-CALDESC:Events for CC ThinkTank
REFRESH-INTERVAL;VALUE=DURATION:PT1H
X-Robots-Tag:noindex
X-PUBLISHED-TTL:PT1H
BEGIN:VTIMEZONE
TZID:UTC
BEGIN:STANDARD
TZOFFSETFROM:+0000
TZOFFSETTO:+0000
TZNAME:UTC
DTSTART:20130101T000000
END:STANDARD
END:VTIMEZONE
BEGIN:VEVENT
DTSTART;TZID=UTC:20150128T154500
DTEND;TZID=UTC:20150128T194500
DTSTAMP:20260423T130025
CREATED:20160820T004747Z
LAST-MODIFIED:20160820T004747Z
UID:4079-1422459900-1422474300@cc-thinktank.com
SUMMARY:Widget Corp
DESCRIPTION:Curse your sudden but inevitable betrayal! How did your brain even learn human speech? I’ve been under fire before. Well … I’ve been in a fire. Actually\, I was fired. I can handle myself. Well\, my time of not taking you seriously is coming to a middle. You’re welcome on my boat. God ain’t. Also? I can kill you with my brain. Every man there go back inside or we will blow a new crater in this little moon. Ten percent of nothin’ is … let me do the math here … nothin’ into nothin’ … carry the nothin’ … Here lies my beloved Zoe\, my autumn flower … somewhat less attractive now that she’s all corpsified and gross. Oh\, I think you might wanna reconsider that last part. See\, I married me a powerful ugly creature.\nIt’s called ‘taking advantage.’ It’s what gets you ahead in life. Whoa\, this guy’s straight? \nOh\, I think you might wanna reconsider that last part. See\, I married me a powerful ugly creature. If anyone gets nosy\, just …you know … shoot ’em. Shoot ’em? Politely\, of course. You’re welcome on my boat. God ain’t. \nIt’s a hug\, Michael. I’m hugging you. I don’t understand the question\, and I won’t respond to it. There’s so many poorly chosen words in that sentence.
URL:https://cc-thinktank.com/event/widget-corp-3/
CATEGORIES:Expo
ATTACH;FMTTYPE=image/jpeg:https://cc-thinktank.com/wp-content/uploads/2018/01/HNCK2634-1300x866-1.jpg
END:VEVENT
BEGIN:VEVENT
DTSTART;TZID=UTC:20150128T154500
DTEND;TZID=UTC:20150128T194500
DTSTAMP:20260423T130025
CREATED:20160820T004747Z
LAST-MODIFIED:20160820T004747Z
UID:4426-1422459900-1422474300@cc-thinktank.com
SUMMARY:Widget Corp
DESCRIPTION:Curse your sudden but inevitable betrayal! How did your brain even learn human speech? I’ve been under fire before. Well … I’ve been in a fire. Actually\, I was fired. I can handle myself. Well\, my time of not taking you seriously is coming to a middle. You’re welcome on my boat. God ain’t. Also? I can kill you with my brain. Every man there go back inside or we will blow a new crater in this little moon. Ten percent of nothin’ is … let me do the math here … nothin’ into nothin’ … carry the nothin’ … Here lies my beloved Zoe\, my autumn flower … somewhat less attractive now that she’s all corpsified and gross. Oh\, I think you might wanna reconsider that last part. See\, I married me a powerful ugly creature.\nIt’s called ‘taking advantage.’ It’s what gets you ahead in life. Whoa\, this guy’s straight? \nOh\, I think you might wanna reconsider that last part. See\, I married me a powerful ugly creature. If anyone gets nosy\, just …you know … shoot ’em. Shoot ’em? Politely\, of course. You’re welcome on my boat. God ain’t. \nIt’s a hug\, Michael. I’m hugging you. I don’t understand the question\, and I won’t respond to it. There’s so many poorly chosen words in that sentence.
URL:https://cc-thinktank.com/event/widget-corp-4/
CATEGORIES:Expo
ATTACH;FMTTYPE=image/jpeg:https://cc-thinktank.com/wp-content/uploads/2018/01/HNCK2634-1300x866-1.jpg
END:VEVENT
BEGIN:VEVENT
DTSTART;VALUE=DATE:20150117
DTEND;VALUE=DATE:20150118
DTSTAMP:20260423T130025
CREATED:20160820T004748Z
LAST-MODIFIED:20160820T004748Z
UID:4437-1421452800-1421539199@cc-thinktank.com
SUMMARY:Little Sheet Metal Co
DESCRIPTION:I’ve opened a door here that I regret. Guy’s a pro. It’s called ‘taking advantage.’ It’s what gets you ahead in life. Get me a vodka rocks. And a piece of toast. I’m half machine. I’m a monster.\nThat’s what it said on ‘Ask Jeeves.’ There’s so many poorly chosen words in that sentence. It’s a hug\, Michael. I’m hugging you. Bad news. Andy Griffith turned us down. He didn’t like his trailer. Now\, when you do this without getting punched in the chest\, you’ll have more fun. Whoa\, this guy’s straight? Marry me. Guy’s a pro. No! I was ashamed to be SEEN with you. I like being with you. As you may or may not know\, Lindsay and I have hit a bit of a rough patch. \nTen percent of nothin’ is … let me do the math here … nothin’ into nothin’ … carry the nothin’ … I cannot abide useless people. You know what the chain of command is? It’s the chain I go get and beat you with until you understand who’s in ruttin charge here. Man walks down the street in a hat like that\, you know he’s not afraid of anything. Mercy is the mark of a great man. Guess I’m just a good man. Well\, I’m all right. Also? I can kill you with my brain. Am I a lion? I don’t think of myself as a lion. You might as well\, though\, I have a mighty roar. Course you couldn’t buy an invite with a diamond the size of a testicle\, but I got my hands on a couple. \nPsychic\, though? That sounds like something out of science fiction. We live in a spaceship\, dear. Oh\, I think you might wanna reconsider that last part. See\, I married me a powerful ugly creature. Ten percent of nothin’ is … let me do the math here … nothin’ into nothin’ … carry the nothin’ … Jayne\, your mouth is talking. You might wanna look to that. Am I a lion? I don’t think of myself as a lion. You might as well\, though\, I have a mighty roar. First rule of battle\, little one … don’t ever let them know where you are… WHOO-HOO! I’M RIGHT HERE! I’M RIGHT HERE! YOU WANT SOME O’ ME?! YEAH YOU DO! COME ON! COME ON! AAAAAH! Whoo-hoo! … ‘Course\, there’re other schools of thought. Yes sir\, Captain Tightpants! Every man there go back inside or we will blow a new crater in this little moon. I’ve been under fire before. Well … I’ve been in a fire. Actually\, I was fired. I can handle myself. Well\, my time of not taking you seriously is coming to a middle.
URL:https://cc-thinktank.com/event/little-sheet-metal-co-4/
CATEGORIES:Expo,Technology
ATTACH;FMTTYPE=image/jpeg:https://cc-thinktank.com/wp-content/uploads/2018/01/event_ticket_wordpress_theme_2.jpg
END:VEVENT
BEGIN:VEVENT
DTSTART;VALUE=DATE:20150117
DTEND;VALUE=DATE:20150118
DTSTAMP:20260423T130025
CREATED:20160820T004748Z
LAST-MODIFIED:20160820T004748Z
UID:2306-1421452800-1421539199@cc-thinktank.com
SUMMARY:Little Sheet Metal Co
DESCRIPTION:I’ve opened a door here that I regret. Guy’s a pro. It’s called ‘taking advantage.’ It’s what gets you ahead in life. Get me a vodka rocks. And a piece of toast. I’m half machine. I’m a monster.\nThat’s what it said on ‘Ask Jeeves.’ There’s so many poorly chosen words in that sentence. It’s a hug\, Michael. I’m hugging you. Bad news. Andy Griffith turned us down. He didn’t like his trailer. Now\, when you do this without getting punched in the chest\, you’ll have more fun. Whoa\, this guy’s straight? Marry me. Guy’s a pro. No! I was ashamed to be SEEN with you. I like being with you. As you may or may not know\, Lindsay and I have hit a bit of a rough patch. \nTen percent of nothin’ is … let me do the math here … nothin’ into nothin’ … carry the nothin’ … I cannot abide useless people. You know what the chain of command is? It’s the chain I go get and beat you with until you understand who’s in ruttin charge here. Man walks down the street in a hat like that\, you know he’s not afraid of anything. Mercy is the mark of a great man. Guess I’m just a good man. Well\, I’m all right. Also? I can kill you with my brain. Am I a lion? I don’t think of myself as a lion. You might as well\, though\, I have a mighty roar. Course you couldn’t buy an invite with a diamond the size of a testicle\, but I got my hands on a couple. \nPsychic\, though? That sounds like something out of science fiction. We live in a spaceship\, dear. Oh\, I think you might wanna reconsider that last part. See\, I married me a powerful ugly creature. Ten percent of nothin’ is … let me do the math here … nothin’ into nothin’ … carry the nothin’ … Jayne\, your mouth is talking. You might wanna look to that. Am I a lion? I don’t think of myself as a lion. You might as well\, though\, I have a mighty roar. First rule of battle\, little one … don’t ever let them know where you are… WHOO-HOO! I’M RIGHT HERE! I’M RIGHT HERE! YOU WANT SOME O’ ME?! YEAH YOU DO! COME ON! COME ON! AAAAAH! Whoo-hoo! … ‘Course\, there’re other schools of thought. Yes sir\, Captain Tightpants! Every man there go back inside or we will blow a new crater in this little moon. I’ve been under fire before. Well … I’ve been in a fire. Actually\, I was fired. I can handle myself. Well\, my time of not taking you seriously is coming to a middle.
URL:https://cc-thinktank.com/event/little-sheet-metal-co/
CATEGORIES:Expo,Technology
ATTACH;FMTTYPE=image/jpeg:https://cc-thinktank.com/wp-content/uploads/2018/01/event_ticket_wordpress_theme_2.jpg
END:VEVENT
BEGIN:VEVENT
DTSTART;VALUE=DATE:20150117
DTEND;VALUE=DATE:20150118
DTSTAMP:20260423T130025
CREATED:20160820T004748Z
LAST-MODIFIED:20160820T004748Z
UID:4090-1421452800-1421539199@cc-thinktank.com
SUMMARY:Little Sheet Metal Co
DESCRIPTION:I’ve opened a door here that I regret. Guy’s a pro. It’s called ‘taking advantage.’ It’s what gets you ahead in life. Get me a vodka rocks. And a piece of toast. I’m half machine. I’m a monster.\nThat’s what it said on ‘Ask Jeeves.’ There’s so many poorly chosen words in that sentence. It’s a hug\, Michael. I’m hugging you. Bad news. Andy Griffith turned us down. He didn’t like his trailer. Now\, when you do this without getting punched in the chest\, you’ll have more fun. Whoa\, this guy’s straight? Marry me. Guy’s a pro. No! I was ashamed to be SEEN with you. I like being with you. As you may or may not know\, Lindsay and I have hit a bit of a rough patch. \nTen percent of nothin’ is … let me do the math here … nothin’ into nothin’ … carry the nothin’ … I cannot abide useless people. You know what the chain of command is? It’s the chain I go get and beat you with until you understand who’s in ruttin charge here. Man walks down the street in a hat like that\, you know he’s not afraid of anything. Mercy is the mark of a great man. Guess I’m just a good man. Well\, I’m all right. Also? I can kill you with my brain. Am I a lion? I don’t think of myself as a lion. You might as well\, though\, I have a mighty roar. Course you couldn’t buy an invite with a diamond the size of a testicle\, but I got my hands on a couple. \nPsychic\, though? That sounds like something out of science fiction. We live in a spaceship\, dear. Oh\, I think you might wanna reconsider that last part. See\, I married me a powerful ugly creature. Ten percent of nothin’ is … let me do the math here … nothin’ into nothin’ … carry the nothin’ … Jayne\, your mouth is talking. You might wanna look to that. Am I a lion? I don’t think of myself as a lion. You might as well\, though\, I have a mighty roar. First rule of battle\, little one … don’t ever let them know where you are… WHOO-HOO! I’M RIGHT HERE! I’M RIGHT HERE! YOU WANT SOME O’ ME?! YEAH YOU DO! COME ON! COME ON! AAAAAH! Whoo-hoo! … ‘Course\, there’re other schools of thought. Yes sir\, Captain Tightpants! Every man there go back inside or we will blow a new crater in this little moon. I’ve been under fire before. Well … I’ve been in a fire. Actually\, I was fired. I can handle myself. Well\, my time of not taking you seriously is coming to a middle.
URL:https://cc-thinktank.com/event/little-sheet-metal-co-2/
CATEGORIES:Expo,Technology
ATTACH;FMTTYPE=image/jpeg:https://cc-thinktank.com/wp-content/uploads/2018/01/event_ticket_wordpress_theme_2.jpg
END:VEVENT
BEGIN:VEVENT
DTSTART;TZID=UTC:20141210T071500
DTEND;TZID=UTC:20141210T091500
DTSTAMP:20260423T130025
CREATED:20160820T004744Z
LAST-MODIFIED:20160820T004744Z
UID:4057-1418195700-1418202900@cc-thinktank.com
SUMMARY:Junior Footballer
DESCRIPTION:JJust get us on the ground! That part will happen pretty definitely! I swear by my pretty floral bonnet\, I will end you. I cannot abide useless people. Oh\, I think you might wanna reconsider that last part. See\, I married me a powerful ugly creature. First rule of battle\, little one … don’t ever let them know where you are… ‘Course\, there’re other schools of thought. Psychic\, though? That sounds like something out of science fiction. We live in a spaceship\, dear. Every man there go back inside or we will blow a new crater in this little moon. Am I a lion? I don’t think of myself as a lion. You might as well\, though\, I have a mighty roar. \n  \n    \n        \n	\n  \nI’ve been under fire before. Well … I’ve been in a fire. Actually\, I was fired. I can handle myself. Someone ever tries to kill you\, you try to kill ’em right back! Am I a lion? I don’t think of myself as a lion. You might as well\, though\, I have a mighty roar. You know what the chain of command is? It’s the chain I go get and beat you with until you understand who’s in ruttin charge here. First rule of battle\, little one … don’t ever let them know where you are…
URL:https://cc-thinktank.com/event/junior-footballer-2/
LOCATION:LA Stadium\, 2 King Street\, La\, United States
CATEGORIES:Expo
ATTACH;FMTTYPE=image/jpeg:https://cc-thinktank.com/wp-content/uploads/2018/01/HNCK1708-1300x866-1.jpg
END:VEVENT
BEGIN:VEVENT
DTSTART;TZID=UTC:20141210T071500
DTEND;TZID=UTC:20141210T091500
DTSTAMP:20260423T130025
CREATED:20160820T004744Z
LAST-MODIFIED:20160820T004744Z
UID:4404-1418195700-1418202900@cc-thinktank.com
SUMMARY:Junior Footballer
DESCRIPTION:JJust get us on the ground! That part will happen pretty definitely! I swear by my pretty floral bonnet\, I will end you. I cannot abide useless people. Oh\, I think you might wanna reconsider that last part. See\, I married me a powerful ugly creature. First rule of battle\, little one … don’t ever let them know where you are… ‘Course\, there’re other schools of thought. Psychic\, though? That sounds like something out of science fiction. We live in a spaceship\, dear. Every man there go back inside or we will blow a new crater in this little moon. Am I a lion? I don’t think of myself as a lion. You might as well\, though\, I have a mighty roar. \n  \n    \n        \n	\n  \nI’ve been under fire before. Well … I’ve been in a fire. Actually\, I was fired. I can handle myself. Someone ever tries to kill you\, you try to kill ’em right back! Am I a lion? I don’t think of myself as a lion. You might as well\, though\, I have a mighty roar. You know what the chain of command is? It’s the chain I go get and beat you with until you understand who’s in ruttin charge here. First rule of battle\, little one … don’t ever let them know where you are…
URL:https://cc-thinktank.com/event/junior-footballer-3/
LOCATION:LA Stadium\, 2 King Street\, La\, United States
CATEGORIES:Expo
ATTACH;FMTTYPE=image/jpeg:https://cc-thinktank.com/wp-content/uploads/2018/01/HNCK1708-1300x866-1.jpg
END:VEVENT
BEGIN:VEVENT
DTSTART;TZID=UTC:20141210T071500
DTEND;TZID=UTC:20141210T091500
DTSTAMP:20260423T130025
CREATED:20160820T004744Z
LAST-MODIFIED:20160820T004744Z
UID:2236-1418195700-1418202900@cc-thinktank.com
SUMMARY:Junior Footballer
DESCRIPTION:JJust get us on the ground! That part will happen pretty definitely! I swear by my pretty floral bonnet\, I will end you. I cannot abide useless people. Oh\, I think you might wanna reconsider that last part. See\, I married me a powerful ugly creature. First rule of battle\, little one … don’t ever let them know where you are… ‘Course\, there’re other schools of thought. Psychic\, though? That sounds like something out of science fiction. We live in a spaceship\, dear. Every man there go back inside or we will blow a new crater in this little moon. Am I a lion? I don’t think of myself as a lion. You might as well\, though\, I have a mighty roar. \n  \n    \n        \n	\n  \nI’ve been under fire before. Well … I’ve been in a fire. Actually\, I was fired. I can handle myself. Someone ever tries to kill you\, you try to kill ’em right back! Am I a lion? I don’t think of myself as a lion. You might as well\, though\, I have a mighty roar. You know what the chain of command is? It’s the chain I go get and beat you with until you understand who’s in ruttin charge here. First rule of battle\, little one … don’t ever let them know where you are…
URL:https://cc-thinktank.com/event/junior-footballer/
LOCATION:LA Stadium\, 2 King Street\, La\, United States
CATEGORIES:Expo
ATTACH;FMTTYPE=image/jpeg:https://cc-thinktank.com/wp-content/uploads/2018/01/HNCK1708-1300x866-1.jpg
END:VEVENT
BEGIN:VEVENT
DTSTART;TZID=UTC:20140719T104500
DTEND;TZID=UTC:20140719T144500
DTSTAMP:20260423T130025
CREATED:20160820T004749Z
LAST-MODIFIED:20160820T004749Z
UID:4442-1405766700-1405781100@cc-thinktank.com
SUMMARY:GroupX Fitness
DESCRIPTION:Oh\, you’re gonna be in a coma\, all right. Say goodbye to these\, because it’s the last time! What’s Spanish for ‘I know you speak English?’ Bad news. Andy Griffith turned us down. He didn’t like his trailer. I don’t criticize you! And if you’re worried about criticism\, sometimes a diet is the best defense. Guy’s a pro. He’ll want to use your yacht\, and I don’t want this thing smelling like fish.\nWell\, my time of not taking you seriously is coming to a middle. Jayne\, your mouth is talking. You might wanna look to that. Here lies my beloved Zoe\, my autumn flower … somewhat less attractive now that she’s all corpsified and gross. Oh\, I think you might wanna reconsider that last part. See\, I married me a powerful ugly creature. I swear by my pretty floral bonnet\, I will end you. Someone ever tries to kill you\, you try to kill ’em right back! Psychic\, though? That sounds like something out of science fiction. We live in a spaceship\, dear. I cannot abide useless people. \nThere’s so many poorly chosen words in that sentence. There’s so many poorly chosen words in that sentence. We just call it a sausage.
URL:https://cc-thinktank.com/event/mcglynn-bliss-pc-3/
CATEGORIES:Expo,Startup,Technology
ATTACH;FMTTYPE=image/jpeg:https://cc-thinktank.com/wp-content/uploads/2018/01/IMG_3725-1300x866-1.jpg
END:VEVENT
BEGIN:VEVENT
DTSTART;TZID=UTC:20140719T104500
DTEND;TZID=UTC:20140719T144500
DTSTAMP:20260423T130025
CREATED:20160820T004749Z
LAST-MODIFIED:20160820T004749Z
UID:2314-1405766700-1405781100@cc-thinktank.com
SUMMARY:GroupX Fitness
DESCRIPTION:Oh\, you’re gonna be in a coma\, all right. Say goodbye to these\, because it’s the last time! What’s Spanish for ‘I know you speak English?’ Bad news. Andy Griffith turned us down. He didn’t like his trailer. I don’t criticize you! And if you’re worried about criticism\, sometimes a diet is the best defense. Guy’s a pro. He’ll want to use your yacht\, and I don’t want this thing smelling like fish.\nWell\, my time of not taking you seriously is coming to a middle. Jayne\, your mouth is talking. You might wanna look to that. Here lies my beloved Zoe\, my autumn flower … somewhat less attractive now that she’s all corpsified and gross. Oh\, I think you might wanna reconsider that last part. See\, I married me a powerful ugly creature. I swear by my pretty floral bonnet\, I will end you. Someone ever tries to kill you\, you try to kill ’em right back! Psychic\, though? That sounds like something out of science fiction. We live in a spaceship\, dear. I cannot abide useless people. \nThere’s so many poorly chosen words in that sentence. There’s so many poorly chosen words in that sentence. We just call it a sausage.
URL:https://cc-thinktank.com/event/mcglynn-bliss-pc/
CATEGORIES:Expo,Startup,Technology
ATTACH;FMTTYPE=image/jpeg:https://cc-thinktank.com/wp-content/uploads/2018/01/IMG_3725-1300x866-1.jpg
END:VEVENT
BEGIN:VEVENT
DTSTART;TZID=UTC:20140719T104500
DTEND;TZID=UTC:20140719T144500
DTSTAMP:20260423T130025
CREATED:20160820T004749Z
LAST-MODIFIED:20160820T004749Z
UID:4095-1405766700-1405781100@cc-thinktank.com
SUMMARY:GroupX Fitness
DESCRIPTION:Oh\, you’re gonna be in a coma\, all right. Say goodbye to these\, because it’s the last time! What’s Spanish for ‘I know you speak English?’ Bad news. Andy Griffith turned us down. He didn’t like his trailer. I don’t criticize you! And if you’re worried about criticism\, sometimes a diet is the best defense. Guy’s a pro. He’ll want to use your yacht\, and I don’t want this thing smelling like fish.\nWell\, my time of not taking you seriously is coming to a middle. Jayne\, your mouth is talking. You might wanna look to that. Here lies my beloved Zoe\, my autumn flower … somewhat less attractive now that she’s all corpsified and gross. Oh\, I think you might wanna reconsider that last part. See\, I married me a powerful ugly creature. I swear by my pretty floral bonnet\, I will end you. Someone ever tries to kill you\, you try to kill ’em right back! Psychic\, though? That sounds like something out of science fiction. We live in a spaceship\, dear. I cannot abide useless people. \nThere’s so many poorly chosen words in that sentence. There’s so many poorly chosen words in that sentence. We just call it a sausage.
URL:https://cc-thinktank.com/event/mcglynn-bliss-pc-2/
CATEGORIES:Expo,Startup,Technology
ATTACH;FMTTYPE=image/jpeg:https://cc-thinktank.com/wp-content/uploads/2018/01/IMG_3725-1300x866-1.jpg
END:VEVENT
END:VCALENDAR